BEGIN:VCALENDAR
VERSION:2.0
PRODID:-//creperie-ambulante - ECPv6.15.18//NONSGML v1.0//EN
CALSCALE:GREGORIAN
METHOD:PUBLISH
X-ORIGINAL-URL:https://www.creperie-ambulante.fr
X-WR-CALDESC:Évènements pour creperie-ambulante
REFRESH-INTERVAL;VALUE=DURATION:PT1H
X-Robots-Tag:noindex
X-PUBLISHED-TTL:PT1H
BEGIN:VTIMEZONE
TZID:Europe/Paris
BEGIN:DAYLIGHT
TZOFFSETFROM:+0100
TZOFFSETTO:+0200
TZNAME:CEST
DTSTART:20250330T010000
END:DAYLIGHT
BEGIN:STANDARD
TZOFFSETFROM:+0200
TZOFFSETTO:+0100
TZNAME:CET
DTSTART:20251026T010000
END:STANDARD
BEGIN:DAYLIGHT
TZOFFSETFROM:+0100
TZOFFSETTO:+0200
TZNAME:CEST
DTSTART:20260329T010000
END:DAYLIGHT
BEGIN:STANDARD
TZOFFSETFROM:+0200
TZOFFSETTO:+0100
TZNAME:CET
DTSTART:20261025T010000
END:STANDARD
BEGIN:DAYLIGHT
TZOFFSETFROM:+0100
TZOFFSETTO:+0200
TZNAME:CEST
DTSTART:20270328T010000
END:DAYLIGHT
BEGIN:STANDARD
TZOFFSETFROM:+0200
TZOFFSETTO:+0100
TZNAME:CET
DTSTART:20271031T010000
END:STANDARD
END:VTIMEZONE
BEGIN:VEVENT
DTSTART;TZID=Europe/Paris:20260422T080000
DTEND;TZID=Europe/Paris:20260422T140000
DTSTAMP:20260424T192204
CREATED:20250704T141541Z
LAST-MODIFIED:20260407T063258Z
UID:1405-1776844800-1776866400@www.creperie-ambulante.fr
SUMMARY:Devant atelier Viaud
DESCRIPTION:https://www.creperie-ambulante.fr/wp-content/uploads/2025/07/AQPJNPJaHgB9AeOd_s6s6vzrUvJ-V5-y4bYX784XMqX6P11r2ZIdmmsPo1x9_yGVsXmfwwA-SSdKkSVqVDBvuLMWe-yZxpq-v7aTAaO6hiyoAn_TQODuJs9QMShJI8XH-1.mp4
URL:https://www.creperie-ambulante.fr/emplacements/devant-atelier-viaud-4/
LOCATION:Atelier Viaud\, ZA Atlanparc 25 avenue Bernard Moitessier\, 17180\, Périgny\, 17180\, France
ATTACH;FMTTYPE=image/jpeg:https://www.creperie-ambulante.fr/wp-content/uploads/2025/08/Nouvelle-deco-2-scaled-1.jpg
END:VEVENT
END:VCALENDAR