BEGIN:VCALENDAR
VERSION:2.0
PRODID:-//creperie-ambulante - ECPv6.15.18//NONSGML v1.0//EN
CALSCALE:GREGORIAN
METHOD:PUBLISH
X-ORIGINAL-URL:https://www.creperie-ambulante.fr
X-WR-CALDESC:Évènements pour creperie-ambulante
REFRESH-INTERVAL;VALUE=DURATION:PT1H
X-Robots-Tag:noindex
X-PUBLISHED-TTL:PT1H
BEGIN:VTIMEZONE
TZID:Europe/Paris
BEGIN:DAYLIGHT
TZOFFSETFROM:+0100
TZOFFSETTO:+0200
TZNAME:CEST
DTSTART:20250330T010000
END:DAYLIGHT
BEGIN:STANDARD
TZOFFSETFROM:+0200
TZOFFSETTO:+0100
TZNAME:CET
DTSTART:20251026T010000
END:STANDARD
BEGIN:DAYLIGHT
TZOFFSETFROM:+0100
TZOFFSETTO:+0200
TZNAME:CEST
DTSTART:20260329T010000
END:DAYLIGHT
BEGIN:STANDARD
TZOFFSETFROM:+0200
TZOFFSETTO:+0100
TZNAME:CET
DTSTART:20261025T010000
END:STANDARD
BEGIN:DAYLIGHT
TZOFFSETFROM:+0100
TZOFFSETTO:+0200
TZNAME:CEST
DTSTART:20270328T010000
END:DAYLIGHT
BEGIN:STANDARD
TZOFFSETFROM:+0200
TZOFFSETTO:+0100
TZNAME:CET
DTSTART:20271031T010000
END:STANDARD
END:VTIMEZONE
BEGIN:VEVENT
DTSTART;TZID=Europe/Paris:20260502T070000
DTEND;TZID=Europe/Paris:20260502T130000
DTSTAMP:20260424T192343
CREATED:20250704T113843Z
LAST-MODIFIED:20260407T065347Z
UID:1365-1777705200-1777726800@www.creperie-ambulante.fr
SUMMARY:Marché de L’Arsenal à La Rochelle
DESCRIPTION:
URL:https://www.creperie-ambulante.fr/emplacements/marche-de-larsenal-a-la-rochelle/
LOCATION:Marché de l’Arsenal La Rochelle\, rue Amelot\, La Rochelle\, 17000\, France
ATTACH;FMTTYPE=image/jpeg:https://www.creperie-ambulante.fr/wp-content/uploads/2025/08/502983356_18057732167465349_2090510337416594347_n.jpg
END:VEVENT
END:VCALENDAR