BEGIN:VCALENDAR
VERSION:2.0
PRODID:-//creperie-ambulante - ECPv6.15.18//NONSGML v1.0//EN
CALSCALE:GREGORIAN
METHOD:PUBLISH
X-ORIGINAL-URL:https://www.creperie-ambulante.fr
X-WR-CALDESC:Évènements pour creperie-ambulante
REFRESH-INTERVAL;VALUE=DURATION:PT1H
X-Robots-Tag:noindex
X-PUBLISHED-TTL:PT1H
BEGIN:VTIMEZONE
TZID:Europe/Paris
BEGIN:DAYLIGHT
TZOFFSETFROM:+0100
TZOFFSETTO:+0200
TZNAME:CEST
DTSTART:20250330T010000
END:DAYLIGHT
BEGIN:STANDARD
TZOFFSETFROM:+0200
TZOFFSETTO:+0100
TZNAME:CET
DTSTART:20251026T010000
END:STANDARD
BEGIN:DAYLIGHT
TZOFFSETFROM:+0100
TZOFFSETTO:+0200
TZNAME:CEST
DTSTART:20260329T010000
END:DAYLIGHT
BEGIN:STANDARD
TZOFFSETFROM:+0200
TZOFFSETTO:+0100
TZNAME:CET
DTSTART:20261025T010000
END:STANDARD
BEGIN:DAYLIGHT
TZOFFSETFROM:+0100
TZOFFSETTO:+0200
TZNAME:CEST
DTSTART:20270328T010000
END:DAYLIGHT
BEGIN:STANDARD
TZOFFSETFROM:+0200
TZOFFSETTO:+0100
TZNAME:CET
DTSTART:20271031T010000
END:STANDARD
END:VTIMEZONE
BEGIN:VEVENT
DTSTART;TZID=Europe/Paris:20260424T110000
DTEND;TZID=Europe/Paris:20260424T140000
DTSTAMP:20260424T175717
CREATED:20260310T065821Z
LAST-MODIFIED:20260407T063824Z
UID:1794-1777028400-1777039200@www.creperie-ambulante.fr
SUMMARY:Clinique de L'atlantique
DESCRIPTION:
URL:https://www.creperie-ambulante.fr/emplacements/portes-ouvertes/
LOCATION:26 rue moulin des judtices 17138 Puilboreau\, 26 rue moulin des justices\, puilboreau\, 17138
ATTACH;FMTTYPE=image/png:https://www.creperie-ambulante.fr/wp-content/uploads/2026/03/clinique-de-lallantique.png
END:VEVENT
END:VCALENDAR