BEGIN:VCALENDAR
VERSION:2.0
PRODID:-//creperie-ambulante - ECPv6.15.18//NONSGML v1.0//EN
CALSCALE:GREGORIAN
METHOD:PUBLISH
X-WR-CALNAME:creperie-ambulante
X-ORIGINAL-URL:https://www.creperie-ambulante.fr
X-WR-CALDESC:Évènements pour creperie-ambulante
REFRESH-INTERVAL;VALUE=DURATION:PT1H
X-Robots-Tag:noindex
X-PUBLISHED-TTL:PT1H
BEGIN:VTIMEZONE
TZID:Europe/Paris
BEGIN:DAYLIGHT
TZOFFSETFROM:+0100
TZOFFSETTO:+0200
TZNAME:CEST
DTSTART:20250330T010000
END:DAYLIGHT
BEGIN:STANDARD
TZOFFSETFROM:+0200
TZOFFSETTO:+0100
TZNAME:CET
DTSTART:20251026T010000
END:STANDARD
BEGIN:DAYLIGHT
TZOFFSETFROM:+0100
TZOFFSETTO:+0200
TZNAME:CEST
DTSTART:20260329T010000
END:DAYLIGHT
BEGIN:STANDARD
TZOFFSETFROM:+0200
TZOFFSETTO:+0100
TZNAME:CET
DTSTART:20261025T010000
END:STANDARD
BEGIN:DAYLIGHT
TZOFFSETFROM:+0100
TZOFFSETTO:+0200
TZNAME:CEST
DTSTART:20270328T010000
END:DAYLIGHT
BEGIN:STANDARD
TZOFFSETFROM:+0200
TZOFFSETTO:+0100
TZNAME:CET
DTSTART:20271031T010000
END:STANDARD
END:VTIMEZONE
BEGIN:VEVENT
DTSTART;TZID=Europe/Paris:20260313T123000
DTEND;TZID=Europe/Paris:20260313T190000
DTSTAMP:20260424T192031
CREATED:20250704T141833Z
LAST-MODIFIED:20260310T065542Z
UID:1409-1773405000-1773428400@www.creperie-ambulante.fr
SUMMARY:Marché Place de Verdun
DESCRIPTION:
URL:https://www.creperie-ambulante.fr/emplacements/marche-place-de-verdun-3/
LOCATION:Marché Place Verdun\, Place de Verdun\, La Rochelle\, 17000\, France
ATTACH;FMTTYPE=image/jpeg:https://www.creperie-ambulante.fr/wp-content/uploads/2025/07/Marche-Place-de-Verdun-780x500-1.jpg
END:VEVENT
BEGIN:VEVENT
DTSTART;TZID=Europe/Paris:20260314T110000
DTEND;TZID=Europe/Paris:20260314T180000
DTSTAMP:20260424T192031
CREATED:20250923T094032Z
LAST-MODIFIED:20260310T065701Z
UID:1614-1773486000-1773511200@www.creperie-ambulante.fr
SUMMARY:Privatisation entreprise
DESCRIPTION:
URL:https://www.creperie-ambulante.fr/emplacements/marche-place-de-verdun-5/
LOCATION:Marché Place Verdun\, Place de Verdun\, La Rochelle\, 17000\, France
ATTACH;FMTTYPE=image/jpeg:https://www.creperie-ambulante.fr/wp-content/uploads/2025/08/503160279_18058367867465349_3545710438273712555_n.jpg
END:VEVENT
BEGIN:VEVENT
DTSTART;TZID=Europe/Paris:20260322T110000
DTEND;TZID=Europe/Paris:20260322T143000
DTSTAMP:20260424T192031
CREATED:20250814T211509Z
LAST-MODIFIED:20260310T070110Z
UID:1591-1774177200-1774189800@www.creperie-ambulante.fr
SUMMARY:Brunch
DESCRIPTION:Domaine du Griffier
URL:https://www.creperie-ambulante.fr/emplacements/brunch/
ATTACH;FMTTYPE=image/jpeg:https://www.creperie-ambulante.fr/wp-content/uploads/2025/08/Brunch-2025-scaled.jpg
END:VEVENT
END:VCALENDAR