BEGIN:VCALENDAR
VERSION:2.0
PRODID:-//creperie-ambulante - ECPv6.15.18//NONSGML v1.0//EN
CALSCALE:GREGORIAN
METHOD:PUBLISH
X-WR-CALNAME:creperie-ambulante
X-ORIGINAL-URL:https://www.creperie-ambulante.fr
X-WR-CALDESC:Évènements pour creperie-ambulante
REFRESH-INTERVAL;VALUE=DURATION:PT1H
X-Robots-Tag:noindex
X-PUBLISHED-TTL:PT1H
BEGIN:VTIMEZONE
TZID:Europe/Paris
BEGIN:DAYLIGHT
TZOFFSETFROM:+0100
TZOFFSETTO:+0200
TZNAME:CEST
DTSTART:20250330T010000
END:DAYLIGHT
BEGIN:STANDARD
TZOFFSETFROM:+0200
TZOFFSETTO:+0100
TZNAME:CET
DTSTART:20251026T010000
END:STANDARD
BEGIN:DAYLIGHT
TZOFFSETFROM:+0100
TZOFFSETTO:+0200
TZNAME:CEST
DTSTART:20260329T010000
END:DAYLIGHT
BEGIN:STANDARD
TZOFFSETFROM:+0200
TZOFFSETTO:+0100
TZNAME:CET
DTSTART:20261025T010000
END:STANDARD
BEGIN:DAYLIGHT
TZOFFSETFROM:+0100
TZOFFSETTO:+0200
TZNAME:CEST
DTSTART:20270328T010000
END:DAYLIGHT
BEGIN:STANDARD
TZOFFSETFROM:+0200
TZOFFSETTO:+0100
TZNAME:CET
DTSTART:20271031T010000
END:STANDARD
END:VTIMEZONE
BEGIN:VEVENT
DTSTART;TZID=Europe/Paris:20260705T100000
DTEND;TZID=Europe/Paris:20260705T163000
DTSTAMP:20260424T222953
CREATED:20250923T092507Z
LAST-MODIFIED:20251217T063411Z
UID:1605-1783245600-1783269000@www.creperie-ambulante.fr
SUMMARY:Brunch Château de Crazannes
DESCRIPTION:Domaine du Griffier
URL:https://www.creperie-ambulante.fr/emplacements/brunch-2/
ATTACH;FMTTYPE=image/jpeg:https://www.creperie-ambulante.fr/wp-content/uploads/2025/08/Brunch-2025-scaled.jpg
END:VEVENT
BEGIN:VEVENT
DTSTART;TZID=Europe/Paris:20260712T113000
DTEND;TZID=Europe/Paris:20260712T143000
DTSTAMP:20260424T222953
CREATED:20260212T060937Z
LAST-MODIFIED:20260212T061527Z
UID:1785-1783855800-1783866600@www.creperie-ambulante.fr
SUMMARY:Anniversaire à Anglier
DESCRIPTION:
URL:https://www.creperie-ambulante.fr/emplacements/anniversaire/
LOCATION:Anglier\, 17540\, France
ATTACH;FMTTYPE=image/jpeg:https://www.creperie-ambulante.fr/wp-content/uploads/2025/09/Brunch--scaled.jpg
END:VEVENT
BEGIN:VEVENT
DTSTART;TZID=Europe/Paris:20260726T100000
DTEND;TZID=Europe/Paris:20260726T140000
DTSTAMP:20260424T222953
CREATED:20250923T142958Z
LAST-MODIFIED:20250924T044830Z
UID:1662-1785060000-1785074400@www.creperie-ambulante.fr
SUMMARY:Brunch 2026 Domaine du Bois
DESCRIPTION:
URL:https://www.creperie-ambulante.fr/emplacements/brunch-2026-domaine-du-bois/
LOCATION:Domaine du Bois\, 314 route des Deux Roches\, Saint Laurent de la Prée\, 17450\, France
ATTACH;FMTTYPE=image/jpeg:https://www.creperie-ambulante.fr/wp-content/uploads/2025/09/Brunch--scaled.jpg
END:VEVENT
END:VCALENDAR